BEGIN:VCALENDAR
VERSION:2.0
PRODID:-//Contratero//ES
CALSCALE:GREGORIAN
METHOD:PUBLISH
BEGIN:VEVENT
UID:P.A. 389/2021@contratero.es
DTSTAMP:20260422T044415Z
DTSTART:20210917T235959
DTEND:20210918T005959
SUMMARY:Cierre: Servicio de digitalización\, custodia\, gestión\, ret
DESCRIPTION:Servicio de digitalización\, custodia\, gestión\, retirada y destrucción de historias clínicas del Departamento de Salud de la Marina Baixa\\n\\nOrganismo: Departamento de Salud de la Marina Baixa. Dirección Económica-Gerencia\\n\\nVer en Contratero: https://contratero.es/contracts/P.A. 389/2021
URL:https://contratero.es/contracts/P.A. 389/2021
STATUS:CONFIRMED
BEGIN:VALARM
TRIGGER:-P1D
ACTION:DISPLAY
DESCRIPTION:Recordatorio: Servicio de digitalización\, cu
END:VALARM
END:VEVENT
END:VCALENDAR